BEGIN:VCALENDAR
VERSION:2.0
PRODID:-//ChamberMaster//Event Calendar 2.0//EN
METHOD:PUBLISH
X-PUBLISHED-TTL:P3D
REFRESH-INTERVAL:P3D
CALSCALE:GREGORIAN
BEGIN:VEVENT
DTSTART;VALUE=DATE:20220128
DTEND;VALUE=DATE:20220131
TRANSP:TRANSPARENT
X-MICROSOFT-CDO-ALLDAYEVENT:TRUE
SUMMARY:Choose To Include Donuts for Special O
DESCRIPTION:Coming up this weekend -  the #ChoosetoInclude Donut is returning \n\nat Tim Hortons (Jan. 28-30).\n\nSpecial Olympics Canada has partnered with Tim Hortons to create the limited edition #ChoosetoInclude Donut\, available from January 28-30. 100% of the proceeds from sales of the donut will go directly to local Special Olympics community programs\, supporting more than 41\,000 athletes with an intellectual disability across Canada.
X-ALT-DESC;FMTTYPE=text/html:<p>Coming up this weekend -&nbsp\; the #ChoosetoInclude Donut is returning&nbsp\;<br />\nat Tim Hortons (Jan. 28-30).</p>\n\n<p>Special Olympics Canada has partnered with Tim Hortons to create the limited edition #ChoosetoInclude Donut\, available from January 28-30. 100% of the proceeds from sales of the donut will go directly to local Special Olympics community programs\, supporting more than 41\,000 athletes with an intellectual disability across Canada.&nbsp\;</p>\n
LOCATION:
UID:e.9238.1124
SEQUENCE:3
DTSTAMP:20260422T171045Z
URL:https://business.newcardealers.ca/events/details/choose-to-include-donuts-for-special-o-1124
END:VEVENT

END:VCALENDAR
