BEGIN:VCALENDAR
VERSION:2.0
PRODID:-//ChamberMaster//Event Calendar 2.0//EN
METHOD:PUBLISH
X-PUBLISHED-TTL:P3D
REFRESH-INTERVAL:P3D
CALSCALE:GREGORIAN
BEGIN:VEVENT
DTSTART:20220224T180000Z
DTEND:20220224T190000Z
X-MICROSOFT-CDO-ALLDAYEVENT:FALSE
SUMMARY:Distracted Driving – More Than Just Phones
DESCRIPTION:Most people know they shouldn't use their phones when driving. The law on that is clear. But police consider other things to be distracting driving too. Some of those other things may surprise you.\n\n\n\nHere's your chance to learn more about distracted driving and to ask an enforcement officer about how to stay on the right side of the law. Sergeant Patrick Davies of the BC Highway Patrol will be joined by Leanne Cassap of ICBC. ICBC educates the public on distracted driving to help keep all drivers safe.\n\n\n\nLearn about Road Safety at Work resources to help eliminate distracted driving at your workplace and keep your employees safe.\n\n\n\nOnce you've attended the live webinar\, Road Safety At Work will provide you with a printable Record of Completion\, acknowledging your commitment to improving the safety of employees who drive for work.\n\nRegister for the event here.
X-ALT-DESC;FMTTYPE=text/html:<p>Most people know they shouldn&rsquo\;t use their phones when driving. The law on that is clear. But police consider other things to be distracting driving too. Some of those other things may surprise you.<br />\n<br />\nHere&rsquo\;s your chance to learn more about distracted driving and to ask an enforcement officer about how to stay on the right side of the law. <strong>Sergeant Patrick Davies of the BC Highway Patrol will be joined by Leanne Cassap of ICBC</strong>. ICBC educates the public on distracted driving to help keep all drivers safe.<br />\n<br />\nLearn about Road Safety at Work resources to help eliminate distracted driving at your workplace and keep your employees safe.<br />\n<br />\nOnce you&#39\;ve attended the live webinar\, Road Safety At Work will provide you with a printable Record of Completion\, acknowledging your commitment to improving the safety of employees who drive for work.</p>\n\n<p><a href="https://roadsafetyatwork.ca/events/distracted-driving-more-than-just-phones/"><em><strong>Register for the event here.&nbsp\;</strong></em></a></p>\n
LOCATION:
UID:e.9238.1126
SEQUENCE:3
DTSTAMP:20260422T153603Z
URL:https://business.newcardealers.ca/events/details/distracted-driving-more-than-just-phones-1126
END:VEVENT

END:VCALENDAR
