BEGIN:VCALENDAR
VERSION:2.0
PRODID:-//ChamberMaster//Event Calendar 2.0//EN
METHOD:PUBLISH
X-PUBLISHED-TTL:P3D
REFRESH-INTERVAL:P3D
CALSCALE:GREGORIAN
BEGIN:VEVENT
DTSTART:20220719T193000Z
DTEND:20220719T203000Z
X-MICROSOFT-CDO-ALLDAYEVENT:FALSE
SUMMARY:NCDA Webinar - Cybersecurity: How to Prepare and Respond
DESCRIPTION:The NCDA is joining with Clyde&Co and HUB Insurance to provide a webinar on how dealerships can manage cyber risk\, and how to respond should a cyber incident occur. \n\n \n\nAn alarming increase in cyber attacks have been occurring in Canada\, targeting Canadians and businesses. Ransom amounts have been climbing and can reach into the millions of dollars. Having adequate resources and policies in place are key to preventing and responding to cyber incidents for your dealership\, if and when they occur. \n\n \n\nHear from expert presenters and cyber experts at Clyde&Co and Cyberclan on how to best manage cyber risk for your dealership as well as from HUB Insurance on types of cyber coverage available and key considerations for dealerships.\n\n \n\nHave any questions about the event topic? Please share them in advance with us in the registration link.\n\n \n\nKey takeaways from the event:\n\n \n\n  Attendees will be provided with resources on how to prepare for and respond to cyber security incidences\, including best practices.
X-ALT-DESC;FMTTYPE=text/html:<div>The NCDA is joining with <a href="https://www.clydeco.com/en">Clyde&amp\;Co</a> and <a href="https://www.hubinternational.com/">HUB Insurance</a> to provide a webinar on how dealerships can manage cyber risk\, and how to respond should a cyber incident occur.&nbsp\;<br />\n&nbsp\;</div>\n\n<div>An alarming increase in cyber attacks have been occurring in Canada\, targeting Canadians and businesses. Ransom amounts have been climbing and can reach into the millions of dollars. Having adequate resources and policies in place are key to preventing and responding to cyber incidents&nbsp\;for your dealership\, if and when they occur.&nbsp\;</div>\n\n<div>&nbsp\;</div>\n\n<div>Hear from expert presenters and cyber experts at <a href="https://www.clydeco.com/en">Clyde&amp\;Co</a>&nbsp\;and <a href="https://cyberclan.com/ca/">Cyberclan </a>on how to best manage cyber risk for your dealership as well as from <a href="https://www.hubinternational.com/">HUB Insurance</a> on types of cyber coverage available and key considerations for dealerships.</div>\n\n<div>&nbsp\;</div>\n\n<div>Have any questions about the event topic? Please share them in advance with us in the registration link.</div>\n\n<div>&nbsp\;</div>\n\n<div>Key takeaways from the event:</div>\n\n<div>&nbsp\;</div>\n\n<div>&bull\;<span style="white-space:pre"> </span>Attendees will be provided with resources on how to prepare for and respond to cyber security incidences\, including best practices.</div>\n
LOCATION:
UID:e.9238.1131
SEQUENCE:3
DTSTAMP:20260422T060947Z
URL:https://business.newcardealers.ca/events/details/ncda-webinar-cybersecurity-how-to-prepare-and-respond-1131
END:VEVENT

END:VCALENDAR
