BEGIN:VCALENDAR
VERSION:2.0
PRODID:-//ChamberMaster//Event Calendar 2.0//EN
METHOD:PUBLISH
X-PUBLISHED-TTL:P3D
REFRESH-INTERVAL:P3D
CALSCALE:GREGORIAN
BEGIN:VEVENT
DTSTART;VALUE=DATE:20210209
DTEND;VALUE=DATE:20210212
TRANSP:TRANSPARENT
X-MICROSOFT-CDO-ALLDAYEVENT:TRUE
SUMMARY:Register for the NADA Show
DESCRIPTION:Register for the NADA Show\n\nJoin thousands of dealers\, dealership managers\, exhibiting companies\, and the world's leading auto industry representatives and connect online.\n\n \n\nStreaming live\, February 9 to 11\, 2021.\n\n\n\nClick here to register.
X-ALT-DESC;FMTTYPE=text/html:<strong><span style="color:#403F42\;"><span style="font-family:segoe ui\,sans-serif\;"><span style="font-size:13.5pt\;">Register for the NADA Show</span></span></span></strong><br />\n<span style="color:#403F42\;"><span style="font-family:segoe ui\,sans-serif\;"><span style="font-size:12.0pt\;">Join thousands of dealers\, dealership managers\, exhibiting companies\, and the world&rsquo\;s leading auto industry representatives and connect online.</span></span></span><br />\n&nbsp\;<br />\n<span style="color:#403F42\;"><span style="font-family:segoe ui\,sans-serif\;"><span style="font-size:12.0pt\;">Streaming live\, February 9 to 11\, 2021.<br />\n<br />\n<a href="http://r20.rs6.net/tn.jsp?f=001nGHlsyA-emgna_H0dJ1vrbLAayQ9UCjiUPRkj2kxtGV2HJEQleNRFVU4XUNVLFmKtv7fj8VNj-nPWjiFivoQuBOToWt3KQxx8ILczFxEUuttgPBbQei2_blwswpPkLn30qNy9INi2NKjJfDrk94Hl0a9BSCrSS7kV5XsjwitKUFA6otv_da8SA==&amp\;c=dz_dAGZf2m4dDLqtAAqpBJw82l2V_ySrBfBN5_KEZkbJCkHrlg6A4g==&amp\;ch=Rl_NTLYIGkJGMRxOyeXAo8wlnJXrH82DjPa3G_F773YJIHuMCt-8Vw==">Click here to register.</a></span></span></span><br />\n&nbsp\;
LOCATION:For more info click here.
UID:e.9238.1106
SEQUENCE:3
DTSTAMP:20260423T161924Z
URL:https://business.newcardealers.ca/events/details/register-for-the-nada-show-1106
END:VEVENT

END:VCALENDAR
